BEGIN:VCALENDAR
VERSION:2.0
PRODID:-//Online School - ECPv6.0.10//NONSGML v1.0//EN
CALSCALE:GREGORIAN
METHOD:PUBLISH
X-WR-CALNAME:Online School
X-ORIGINAL-URL:https://diviforest.com/demo/online-school
X-WR-CALDESC:Events for Online School
REFRESH-INTERVAL;VALUE=DURATION:PT1H
X-Robots-Tag:noindex
X-PUBLISHED-TTL:PT1H
BEGIN:VTIMEZONE
TZID:UTC
BEGIN:STANDARD
TZOFFSETFROM:+0000
TZOFFSETTO:+0000
TZNAME:UTC
DTSTART:20240101T000000
END:STANDARD
END:VTIMEZONE
BEGIN:VEVENT
DTSTART;VALUE=DATE:20240204
DTEND;VALUE=DATE:20240405
DTSTAMP:20260424T231426
CREATED:20230729T110312Z
LAST-MODIFIED:20231013T061439Z
UID:95365-1707004800-1712275199@diviforest.com
SUMMARY:Education Training Resources
DESCRIPTION:
URL:https://diviforest.com/demo/online-school/event/education-training-resources/
LOCATION:Robert J. Summers\, 2798 West Drive\, IL 60605\, French Guiana
CATEGORIES:Speech
ATTACH;FMTTYPE=image/jpeg:https://diviforest.com/demo/online-school/wp-content/uploads/sites/118/2023/10/1000x700x3.jpg
ORGANIZER;CN="Richard%20Kessler":MAILTO:RichardAKessler@teleworm.us
END:VEVENT
BEGIN:VEVENT
DTSTART;TZID=UTC:20240411T043000
DTEND;TZID=UTC:20240411T170000
DTSTAMP:20260424T231426
CREATED:20230731T050519Z
LAST-MODIFIED:20231013T061439Z
UID:90226-1712809800-1712854800@diviforest.com
SUMMARY:International Training Expo
DESCRIPTION:
URL:https://diviforest.com/demo/online-school/event/international-training-expo/
LOCATION:Robert J. Summers\, 2798 West Drive\, IL 60605\, French Guiana
CATEGORIES:Speech
ATTACH;FMTTYPE=image/jpeg:https://diviforest.com/demo/online-school/wp-content/uploads/sites/118/2023/10/1000x700x1.jpg
ORGANIZER;CN="Vanessa%20Kuster":MAILTO:VanessaKuster@armyspy.com
END:VEVENT
END:VCALENDAR